BEGIN:VCALENDAR
VERSION:2.0
PRODID:-//Squarespace Inc/Squarespace 6//v6//EN
BEGIN:VEVENT
UID:588bdc26f7e0abc8e7258b93@squarespace.com
DTSTAMP:20171215T232307Z
DTSTART:20161020T200000Z
DTEND:20161104T000000Z
SUMMARY:Wednesday Night Junior 2s Beach Competition
END:VEVENT
END:VCALENDAR
