BEGIN:VCALENDAR
VERSION:2.0
PRODID:-//Squarespace Inc/Squarespace 6//v6//EN
BEGIN:VEVENT
UID:588be93cbebafb4db82caa85@squarespace.com
DTSTAMP:20171215T232314Z
DTSTART:20161105T120000Z
DTEND:20161105T203000Z
SUMMARY:Pines VC NZ Challenger #1
END:VEVENT
END:VCALENDAR
