BEGIN:VCALENDAR
VERSION:2.0
PRODID:-//Squarespace Inc/Squarespace 6//v6//EN
BEGIN:VEVENT
UID:588beec26a4963f1fe29fa37@squarespace.com
DTSTAMP:20171215T232322Z
DTSTART:20161210T131500Z
DTEND:20161210T220000Z
SUMMARY:Pines VC NZ Challenger #2
END:VEVENT
END:VCALENDAR
