BEGIN:VCALENDAR
VERSION:2.0
PRODID:-//Squarespace Inc/Squarespace 6//v6//EN
BEGIN:VEVENT
UID:588bf03a2e69cfbe9b012872@squarespace.com
DTSTAMP:20171215T232234Z
DTSTART:20161217T133000Z
DTEND:20161217T220000Z
SUMMARY:Pines VC NZ Challenger #3
END:VEVENT
END:VCALENDAR
