BEGIN:VCALENDAR
VERSION:2.0
PRODID:-//Squarespace Inc/Squarespace 6//v6//EN
BEGIN:VEVENT
UID:586dbd96197aea98191780cd@squarespace.com
DTSTAMP:20171215T232226Z
DTSTART:20161210T140000Z
DTEND:20161210T220000Z
SUMMARY:King and Queen of the Beach
END:VEVENT
END:VCALENDAR
