BEGIN:VCALENDAR
VERSION:2.0
PRODID:-//Squarespace Inc/Squarespace 6//v6//EN
BEGIN:VEVENT
UID:588be1612e69cfbe9b008780@squarespace.com
DTSTAMP:20171215T232300Z
DTSTART:20161018T200000Z
DTEND:20161102T003000Z
SUMMARY:Tuesday Night 2s Open Beach Competition
END:VEVENT
END:VCALENDAR
