BEGIN:VCALENDAR
VERSION:2.0
PRODID:-//Squarespace Inc/Squarespace 6//v6//EN
BEGIN:VEVENT
UID:5a23bc2a53450a52b5ee4ede@squarespace.com
DTSTAMP:20171215T232150Z
DTSTART:20171205T213000Z
DTEND:20171206T013000Z
SUMMARY:Round 4 Tuesday Night 2s - Beach
END:VEVENT
END:VCALENDAR
