BEGIN:VCALENDAR
VERSION:2.0
PRODID:-//Squarespace Inc/Squarespace 6//v6//EN
BEGIN:VEVENT
UID:5a23bbfd652deacb41a24626@squarespace.com
DTSTAMP:20171215T232158Z
DTSTART:20171114T213000Z
DTEND:20171115T013000Z
SUMMARY:Round 3 Tuesday Night 2s - Beach
END:VEVENT
END:VCALENDAR
