BEGIN:VCALENDAR
VERSION:2.0
PRODID:-//Squarespace Inc/Squarespace 6//v6//EN
BEGIN:VEVENT
UID:5a23bb8471c10b3508cea391@squarespace.com
DTSTAMP:20171215T232251Z
DTSTART:20171107T213000Z
DTEND:20171108T013000Z
SUMMARY:Round 2 Tuesday Night 2s - Beach
END:VEVENT
END:VCALENDAR
