BEGIN:VCALENDAR
VERSION:2.0
PRODID:-//Squarespace Inc/Squarespace 6//v6//EN
BEGIN:VEVENT
UID:5a23aeec0d9297cfbf777400@squarespace.com
DTSTAMP:20171215T232243Z
DTSTART:20171031T203000Z
DTEND:20171101T003000Z
SUMMARY: Tuesday Night 2s Open Beach Competition
END:VEVENT
END:VCALENDAR
