BEGIN:VCALENDAR
VERSION:2.0
PRODID:-//Squarespace Inc/Squarespace 6//v6//EN
BEGIN:VEVENT
UID:5a28654871c10bf5a41b9304@squarespace.com
DTSTAMP:20171215T232142Z
DTSTART:20171213T220000Z
DTEND:20171214T000000Z
SUMMARY:2017 Pines Volleyball Club AGM
END:VEVENT
END:VCALENDAR
