BEGIN:VCALENDAR
VERSION:2.0
PRODID:-//Squarespace Inc/Squarespace 6//v6//EN
BEGIN:VEVENT
UID:5a28a6b241920296526ab4f9@squarespace.com
DTSTAMP:20171222T044626Z
DTSTART:20180123T143000Z
DTEND:20180125T033000Z
SUMMARY:NZ Age Groups Beach Champs
END:VEVENT
END:VCALENDAR
