BEGIN:VCALENDAR
VERSION:2.0
PRODID:-//Squarespace Inc/Squarespace 6//v6//EN
BEGIN:VEVENT
UID:5a28a731652deabe5e24de5d@squarespace.com
DTSTAMP:20171222T044558Z
DTSTART:20180126T143000Z
DTEND:20180128T233000Z
SUMMARY:New Zealand Beach Open
END:VEVENT
END:VCALENDAR
