BEGIN:VCALENDAR
VERSION:2.0
PRODID:-//Squarespace Inc/Squarespace 6//v6//EN
BEGIN:VEVENT
UID:5a28a6f09140b775cdd66a37@squarespace.com
DTSTAMP:20171222T044712Z
DTSTART:20180106T143000Z
DTEND:20180107T233000Z
SUMMARY:VNZ National Beach Championships
END:VEVENT
END:VCALENDAR
