BEGIN:VCALENDAR
VERSION:2.0
PRODID:-//Squarespace Inc/Squarespace 6//v6//EN
BEGIN:VEVENT
UID:5a28669f0852294eb5140a87@squarespace.com
DTSTAMP:20171215T232049Z
DTSTART:20180203T130000Z
DTEND:20180204T230000Z
SUMMARY:NZ Secondary Schools Beach Championships
END:VEVENT
END:VCALENDAR
