BEGIN:VCALENDAR
VERSION:2.0
PRODID:-//Squarespace Inc/Squarespace 6//v6//EN
BEGIN:VEVENT
UID:5a28a793ec212d1d08669f72@squarespace.com
DTSTAMP:20171215T232057Z
DTSTART:20180319T133000Z
DTEND:20180323T143000Z
SUMMARY:NZ Secondary Schools Indoor Championships
END:VEVENT
END:VCALENDAR
